BEGIN:VCALENDAR
VERSION:2.0
PRODID:-//Sabre//Sabre VObject 3.5.3//EN
CALSCALE:GREGORIAN
BEGIN:VTIMEZONE
TZID:Europe/London
BEGIN:STANDARD
TZNAME:GMT
DTSTART:19701025T020000
RRULE:FREQ=YEARLY;BYMONTH=10;BYDAY=-1SU
TZOFFSETFROM:+0100
TZOFFSETTO:+0000
END:STANDARD
BEGIN:DAYLIGHT
TZNAME:BST
DTSTART:19700329T010000
RRULE:FREQ=YEARLY;BYMONTH=3;BYDAY=-1SU
TZOFFSETFROM:+0000
TZOFFSETTO:+0100
END:DAYLIGHT
END:VTIMEZONE
BEGIN:VEVENT
UID:event_191003@fpchoir.org
DTSTART;TZID=Europe/London:20251018T193000
DTEND;TZID=Europe/London:20251018T213000
SUMMARY:Autumn Concert\, 2025 -Curtain Up!
DESCRIPTION:Join the choir for an evening of showstopping tunes from Gershw
 in and Gilbert &amp\; Sullivan.\n\nWe will tour through favourites such as
  &#39\;Summertime&#39\; from Porgy and Bess\, &#39\;I&#39\;ve got Rhythm&#
 39\;\, and the endlessly fun &quot\;Let&#39\;s call the whole thing off&qu
 ot\;. All arranged beautifully by Mac Huff\, We hope to bring you a real f
 lavour of the breadth of work across George and Ira Gershwin&#39\;s career
 .\n\nIf G&amp\;S is your thing\, you won&#39\;t be disappointed to hear so
 ngs from The Mikado\, Pirates of Penzance and H.M.S. Pinafore. The choir w
 ill be gaily tripping to the bright morning of a wedding day\, dancing a c
 achuca along the way.&nbsp\;\n\nWe hope you come and enjoy this ebullient 
 evening with us!&nbsp\;\n\nFor full event details\, visit: https://www.fpc
 hoir.org/dbpage.php?pg=view&dbase=events&id=191003
LOCATION:Holy Trinity Church\, 132 West St\, Fareham PO16 0EL
URL:https://www.fpchoir.org/dbpage.php?pg=view&dbase=events&id=191003
END:VEVENT
END:VCALENDAR
