BEGIN:VCALENDAR
VERSION:2.0
PRODID:-//Sabre//Sabre VObject 3.5.3//EN
CALSCALE:GREGORIAN
BEGIN:VTIMEZONE
TZID:Europe/London
BEGIN:STANDARD
TZNAME:GMT
DTSTART:19701025T020000
RRULE:FREQ=YEARLY;BYMONTH=10;BYDAY=-1SU
TZOFFSETFROM:+0100
TZOFFSETTO:+0000
END:STANDARD
BEGIN:DAYLIGHT
TZNAME:BST
DTSTART:19700329T010000
RRULE:FREQ=YEARLY;BYMONTH=3;BYDAY=-1SU
TZOFFSETFROM:+0000
TZOFFSETTO:+0100
END:DAYLIGHT
END:VTIMEZONE
BEGIN:VEVENT
UID:event_199992@fpchoir.org
DTSTART;TZID=Europe/London:20261212T193000
DTEND;TZID=Europe/London:20261212T213000
SUMMARY:FPC's Christmas Concert\, 2026
DESCRIPTION:Featuring Britten&#39\;s Ceremony of Carols\, Carol of the Bell
 s and Rutter&#39\;s Blow\, Blow\, thou Winter Wind\, supported by our usua
 l mix of carols and other seasonal songs\, guaranteed to get you into the 
 Christmas spirit.\n\nFor full event details\, visit: https://www.fpchoir.o
 rg/dbpage.php?pg=view&dbase=events&id=199992
LOCATION:Holy Trinity Church\, 132 West St\, Fareham PO16 0EL
URL:https://www.fpchoir.org/dbpage.php?pg=view&dbase=events&id=199992
END:VEVENT
END:VCALENDAR
