BEGIN:VCALENDAR
VERSION:2.0
PRODID:-//Sabre//Sabre VObject 3.5.3//EN
CALSCALE:GREGORIAN
BEGIN:VTIMEZONE
TZID:Europe/London
BEGIN:STANDARD
TZNAME:GMT
DTSTART:19701025T020000
RRULE:FREQ=YEARLY;BYMONTH=10;BYDAY=-1SU
TZOFFSETFROM:+0100
TZOFFSETTO:+0000
END:STANDARD
BEGIN:DAYLIGHT
TZNAME:BST
DTSTART:19700329T010000
RRULE:FREQ=YEARLY;BYMONTH=3;BYDAY=-1SU
TZOFFSETFROM:+0000
TZOFFSETTO:+0100
END:DAYLIGHT
END:VTIMEZONE
BEGIN:VEVENT
UID:event_204642@fpchoir.org
DTSTART;TZID=Europe/London:20260119T193000
DTEND;TZID=Europe/London:20260119T213000
SUMMARY:January 2026 Open Rehearsal - Mozart Requiem
DESCRIPTION:\nWe look forward to seeing you!\n\n\nFor full event details\, 
 visit: https://www.fpchoir.org/https-www.fpchoir.orgdbpage.phppg=visit
LOCATION:Fareham United Reformed Church\, 18 Osborn Road South\, Fareham\, 
 PO16 7DG
URL:https://www.fpchoir.org/https-www.fpchoir.orgdbpage.phppg=visit
END:VEVENT
END:VCALENDAR
