BEGIN:VCALENDAR
VERSION:2.0
PRODID:-//Sabre//Sabre VObject 3.5.3//EN
CALSCALE:GREGORIAN
BEGIN:VTIMEZONE
TZID:Europe/London
BEGIN:STANDARD
TZNAME:GMT
DTSTART:19701025T020000
RRULE:FREQ=YEARLY;BYMONTH=10;BYDAY=-1SU
TZOFFSETFROM:+0100
TZOFFSETTO:+0000
END:STANDARD
BEGIN:DAYLIGHT
TZNAME:BST
DTSTART:19700329T010000
RRULE:FREQ=YEARLY;BYMONTH=3;BYDAY=-1SU
TZOFFSETFROM:+0000
TZOFFSETTO:+0100
END:DAYLIGHT
END:VTIMEZONE
BEGIN:VEVENT
UID:event_210631@fpchoir.org
DTSTART;VALUE=DATE:20260711
DURATION:P1D
SUMMARY:"Come and Sing" Event - a singing workshop open to all
DESCRIPTION:The programme will include:\n\n	Rutter &nbsp\; &nbsp\; &nbsp\; 
 &nbsp\; &nbsp\; &nbsp\; &nbsp\;Down by the Riverside\n	Seiber: &nbsp\; &nb
 sp\;&nbsp\;&nbsp\;&nbsp\;&nbsp\;&nbsp\;&nbsp\;&nbsp\;&nbsp\;Hungarian Folk
 songs de Zesperedes\n	Items from:&nbsp\;&nbsp\;&nbsp\;&nbsp\;The King&#39\
 ;s Singers Song Book\n\n\n\nFor full event details\, visit: https://www.fp
 choir.org/dbpage.php?pg=view&dbase=events&id=210631
URL:https://www.fpchoir.org/dbpage.php?pg=view&dbase=events&id=210631
END:VEVENT
END:VCALENDAR
