BEGIN:VCALENDAR
VERSION:2.0
PRODID:-//Sabre//Sabre VObject 3.5.3//EN
CALSCALE:GREGORIAN
BEGIN:VTIMEZONE
TZID:Europe/London
BEGIN:STANDARD
TZNAME:GMT
DTSTART:19701025T020000
RRULE:FREQ=YEARLY;BYMONTH=10;BYDAY=-1SU
TZOFFSETFROM:+0100
TZOFFSETTO:+0000
END:STANDARD
BEGIN:DAYLIGHT
TZNAME:BST
DTSTART:19700329T010000
RRULE:FREQ=YEARLY;BYMONTH=3;BYDAY=-1SU
TZOFFSETFROM:+0000
TZOFFSETTO:+0100
END:DAYLIGHT
END:VTIMEZONE
BEGIN:VEVENT
UID:event_313978@fpchoir.org
DTSTART;TZID=Europe/London:20290421T193000
DTEND;TZID=Europe/London:20290421T213000
SUMMARY:FPC Spring Concert\, 2029
DESCRIPTION:The programme will include:\n\n	Faure&#39\;s Requiem Mass\n	Nob
 le&#39\;s Mass\n	Zelenka&#39\;s Miserere\n\n\n\nFor full event details\, v
 isit: https://www.fpchoir.org/dbpage.php?pg=view&dbase=events&id=313978
LOCATION:Holy Trinity Church\, 132 West St\, Fareham PO16 0EL
URL:https://www.fpchoir.org/dbpage.php?pg=view&dbase=events&id=313978
END:VEVENT
END:VCALENDAR
